BEGIN:VCALENDAR
VERSION:2.0
PRODID:icalendar-ruby
CALSCALE:GREGORIAN
BEGIN:VEVENT
DTSTAMP:20260422T021800Z
UID:5c2244e7-3ebc-4c45-9fb4-99598aa47c05
DTSTART;TZID=Pacific/Auckland:20260425T123000
DTEND;TZID=Pacific/Auckland:20260425T130000
DESCRIPTION:Property ID# 606067
SUMMARY:Openhome for 1B/20 Oriental Terrace
END:VEVENT
END:VCALENDAR
