BEGIN:VCALENDAR
VERSION:2.0
PRODID:icalendar-ruby
CALSCALE:GREGORIAN
BEGIN:VEVENT
DTSTAMP:20260422T022140Z
UID:a961bec1-353b-40a6-8bb3-5cb4fd2ac919
DTSTART;TZID=Pacific/Auckland:20260425T143000
DTEND;TZID=Pacific/Auckland:20260425T150000
DESCRIPTION:Property ID# 606497
SUMMARY:Openhome for 502/120 Victoria Street
END:VEVENT
END:VCALENDAR
