BEGIN:VCALENDAR
VERSION:2.0
PRODID:icalendar-ruby
CALSCALE:GREGORIAN
BEGIN:VEVENT
DTSTAMP:20260422T021617Z
UID:87126753-1fe9-41be-9faf-a0a905d79269
DTSTART;TZID=Pacific/Auckland:20260425T133000
DTEND;TZID=Pacific/Auckland:20260425T140000
DESCRIPTION:Property ID# 606844
SUMMARY:Openhome for 3G/21 Rugby Street
END:VEVENT
END:VCALENDAR
