BEGIN:VCALENDAR
VERSION:2.0
PRODID:icalendar-ruby
CALSCALE:GREGORIAN
BEGIN:VEVENT
DTSTAMP:20260422T021713Z
UID:abca4328-c9de-4af7-a849-2844d842de45
DTSTART;VALUE=DATE:20260508
DESCRIPTION:Property ID# 606844\, Locatoin: Harcourts\, 59 Vivian Street\, 
 Te Aro\, Wellington\, Time: 12:00PM
SUMMARY:Auction for 3G/21 Rugby Street
END:VEVENT
END:VCALENDAR
