BEGIN:VCALENDAR
VERSION:2.0
PRODID:icalendar-ruby
CALSCALE:GREGORIAN
BEGIN:VEVENT
DTSTAMP:20260423T124520Z
UID:0298282c-382e-4b09-8e91-79fe09ab2dcf
DTSTART;VALUE=DATE:20260326
DESCRIPTION:Property ID# 604425\, Locatoin: 8 Kent Terrace\, Wellington\, T
 ime: 3:00PM
SUMMARY:Auction for 1/5 Hopper Street
END:VEVENT
END:VCALENDAR
