BEGIN:VCALENDAR
VERSION:2.0
PRODID:icalendar-ruby
CALSCALE:GREGORIAN
BEGIN:VEVENT
DTSTAMP:20260422T022355Z
UID:77059071-7419-4123-bcf0-a93ce1aa5ecb
DTSTART;VALUE=DATE:20260204
DESCRIPTION:Property ID# 602128\, Locatoin: Harcourts Wellington City Offic
 e (unless brought forward)\, Time: 3:30PM
SUMMARY:Auction for 
END:VEVENT
END:VCALENDAR
