BEGIN:VCALENDAR
VERSION:2.0
PRODID:icalendar-ruby
CALSCALE:GREGORIAN
BEGIN:VEVENT
DTSTAMP:20260421T083402Z
UID:94bd7e65-6ea1-4510-a754-d6d1a50f5e0a
DTSTART;VALUE=DATE:20251023
DESCRIPTION:Property ID# 598275\, Locatoin: 8 Kent Terrace\, Wellington\, T
 ime: 12:00PM
SUMMARY:Auction for 
END:VEVENT
END:VCALENDAR
