BEGIN:VCALENDAR
VERSION:2.0
PRODID:icalendar-ruby
CALSCALE:GREGORIAN
BEGIN:VEVENT
DTSTAMP:20260419T194039Z
UID:04e47332-4f61-40e8-92f4-bf7e6c220fe5
DTSTART;VALUE=DATE:20250925
DESCRIPTION:Property ID# 596938\, Locatoin: 2/153 Karori Road\, Wellington\
 , Time: 12:00PM
SUMMARY:Auction for 
END:VEVENT
END:VCALENDAR
