BEGIN:VCALENDAR
VERSION:2.0
PRODID:icalendar-ruby
CALSCALE:GREGORIAN
BEGIN:VEVENT
DTSTAMP:20260423T130615Z
UID:6fa41531-cddd-4dc9-983c-35d27aaa14dc
DTSTART;VALUE=DATE:20250629
DESCRIPTION:Property ID# 593891\, Locatoin: 8 Kent Terrace\, Wellington\, T
 ime: 3:00PM
SUMMARY:Auction for 
END:VEVENT
END:VCALENDAR
