BEGIN:VCALENDAR
VERSION:2.0
PRODID:icalendar-ruby
CALSCALE:GREGORIAN
BEGIN:VEVENT
DTSTAMP:20260419T155408Z
UID:c4727738-2a68-4d1d-9002-07c8f90a59b0
DTSTART;VALUE=DATE:20250515
DESCRIPTION:Property ID# 591972\, Locatoin: 8 Kent Terrace\, Wellington\, T
 ime: 12:00PM
SUMMARY:Auction for 
END:VEVENT
END:VCALENDAR
