BEGIN:VCALENDAR
VERSION:2.0
PRODID:icalendar-ruby
CALSCALE:GREGORIAN
BEGIN:VEVENT
DTSTAMP:20260421T231207Z
UID:35412d73-07a7-4d9a-a665-8137b8f8e905
DTSTART;VALUE=DATE:20250430
DESCRIPTION:Property ID# 591120\, Locatoin: Harcourts Wellington City Offic
 e at 57 Vivian Street\, Te Aro\, Wellington 6011\, Time: 1:00PM
SUMMARY:Auction for 
END:VEVENT
END:VCALENDAR
