BEGIN:VCALENDAR
VERSION:2.0
PRODID:icalendar-ruby
CALSCALE:GREGORIAN
BEGIN:VEVENT
DTSTAMP:20260419T194156Z
UID:a884855e-8b43-44bb-b1e9-72b886e932dd
DTSTART;VALUE=DATE:20250411
DESCRIPTION:Property ID# 590538\, Locatoin: 2/153 Karori Road\, Wellington\
 , Time: 12:00PM
SUMMARY:Auction for 
END:VEVENT
END:VCALENDAR
