BEGIN:VCALENDAR
VERSION:2.0
PRODID:icalendar-ruby
CALSCALE:GREGORIAN
BEGIN:VEVENT
DTSTAMP:20260423T085902Z
UID:2bbe648c-c749-4ed0-a353-128470b80ab4
DTSTART;VALUE=DATE:20250403
DESCRIPTION:Property ID# 589711\, Locatoin: 2/153 Karori Road\, Wellington\
 , Time: 12:00PM
SUMMARY:Auction for 
END:VEVENT
END:VCALENDAR
