BEGIN:VCALENDAR
VERSION:2.0
PRODID:icalendar-ruby
CALSCALE:GREGORIAN
BEGIN:VEVENT
DTSTAMP:20260419T194445Z
UID:f0fa50a3-3795-4cd6-9a4e-19733b8b9be3
DTSTART;VALUE=DATE:20250306
DESCRIPTION:Property ID# 588105\, Locatoin: 2/153 Karori Road\, Wellington\
 , Time: 12:00PM
SUMMARY:Auction for 
END:VEVENT
END:VCALENDAR
