BEGIN:VCALENDAR
VERSION:2.0
PRODID:icalendar-ruby
CALSCALE:GREGORIAN
BEGIN:VEVENT
DTSTAMP:20260422T083101Z
UID:1263a9a8-7efb-416d-9037-077effd46cb9
DTSTART;VALUE=DATE:20250207
DESCRIPTION:Property ID# 586368\, Locatoin: 176 Main Road\, Tawa\, Time: 1:
 00PM
SUMMARY:Auction for 
END:VEVENT
END:VCALENDAR
