BEGIN:VCALENDAR
VERSION:2.0
PRODID:icalendar-ruby
CALSCALE:GREGORIAN
BEGIN:VEVENT
DTSTAMP:20260419T193724Z
UID:f5f4eed6-8406-49be-ac38-d4f44618246f
DTSTART;VALUE=DATE:20241107
DESCRIPTION:Property ID# 582632\, Locatoin: 2/153 Karori Road\, Wellington\
 , Time: 12:00PM
SUMMARY:Auction for 
END:VEVENT
END:VCALENDAR
