BEGIN:VCALENDAR
VERSION:2.0
PRODID:icalendar-ruby
CALSCALE:GREGORIAN
BEGIN:VEVENT
DTSTAMP:20260419T192915Z
UID:3aba3f4f-ec9e-4f55-8717-8aa2097b5c6f
DTSTART;VALUE=DATE:20241010
DESCRIPTION:Property ID# 581071\, Locatoin: 2/153 Karori Road\, Wellington\
 , Time: 12:00PM
SUMMARY:Auction for 
END:VEVENT
END:VCALENDAR
