BEGIN:VCALENDAR
VERSION:2.0
PRODID:icalendar-ruby
CALSCALE:GREGORIAN
BEGIN:VEVENT
DTSTAMP:20260419T231237Z
UID:93e2b556-a5ae-4254-99a1-87b213805841
DTSTART;VALUE=DATE:20240926
DESCRIPTION:Property ID# 580466\, Locatoin: 2/153 Karori Road\, Wellington\
 , Time: 12:00PM
SUMMARY:Auction for 
END:VEVENT
END:VCALENDAR
