BEGIN:VCALENDAR
VERSION:2.0
PRODID:icalendar-ruby
CALSCALE:GREGORIAN
BEGIN:VEVENT
DTSTAMP:20260425T195345Z
UID:7195f4b3-f535-4ed2-a271-95008ccb8bf2
DTSTART;VALUE=DATE:20231005
DESCRIPTION:Property ID# 561741\, Locatoin: 2/153 Karori Road\, Wellington\
 , Time: 12:00PM
SUMMARY:Auction for 
END:VEVENT
END:VCALENDAR
