BEGIN:VCALENDAR
VERSION:2.0
PRODID:icalendar-ruby
CALSCALE:GREGORIAN
BEGIN:VEVENT
DTSTAMP:20260422T052059Z
UID:173f0081-7225-48a7-adf0-f2332fb0e2f1
DTSTART;VALUE=DATE:20230828
DESCRIPTION:Property ID# 560660\, Locatoin: Deadline 28th August 4pm (Unles
 s Sold Prior) Harcourts Paraparaumu Coastlands Parade \, Time: 4:00PM
SUMMARY:Auction for 
END:VEVENT
END:VCALENDAR
