BEGIN:VCALENDAR
VERSION:2.0
PRODID:icalendar-ruby
CALSCALE:GREGORIAN
BEGIN:VEVENT
DTSTAMP:20260422T030439Z
UID:4909ed18-d337-413f-ab8a-73e6872d0af2
DTSTART;VALUE=DATE:20211125
DESCRIPTION:Property ID# 522060\, Locatoin: 30 Bay Road\, Kilbirnie\, Time:
  12:00PM
SUMMARY:Auction for 
END:VEVENT
END:VCALENDAR
