BEGIN:VCALENDAR
VERSION:2.0
PRODID:icalendar-ruby
CALSCALE:GREGORIAN
BEGIN:VEVENT
DTSTAMP:20260422T030537Z
UID:ff447793-2da9-421e-bf1d-bc7092137520
DTSTART;VALUE=DATE:20211007
DESCRIPTION:Property ID# 517216\, Locatoin:  30 Bay Road\, Kilbirnie\, Time
 : 12:00PM
SUMMARY:Auction for 
END:VEVENT
END:VCALENDAR
