BEGIN:VCALENDAR
VERSION:2.0
PRODID:icalendar-ruby
CALSCALE:GREGORIAN
BEGIN:VEVENT
DTSTAMP:20260422T030951Z
UID:5a770d3f-ac5d-4e3a-af6b-56055d8d426a
DTSTART;VALUE=DATE:20210916
DESCRIPTION:Property ID# 515866\, Locatoin: 30 Bay Road\, Kilbirnie\, Time:
  12:00PM
SUMMARY:Auction for 
END:VEVENT
END:VCALENDAR
