BEGIN:VCALENDAR
VERSION:2.0
PRODID:icalendar-ruby
CALSCALE:GREGORIAN
BEGIN:VEVENT
DTSTAMP:20260424T100512Z
UID:83b646a2-ab19-4195-9d8d-9e5666284d15
DTSTART;VALUE=DATE:20210901
DESCRIPTION:Property ID# 515440\, Locatoin: 30 Bay Road\, Kilbirnie\, Time:
  12:00PM
SUMMARY:Auction for 
END:VEVENT
END:VCALENDAR
