BEGIN:VCALENDAR
VERSION:2.0
PRODID:icalendar-ruby
CALSCALE:GREGORIAN
BEGIN:VEVENT
DTSTAMP:20260421T100410Z
UID:ca02b612-d839-40cd-9319-2a42643296c4
DTSTART;VALUE=DATE:20210819
DESCRIPTION:Property ID# 514364\, Locatoin: Lowe & Co Realty\, 8 Kent Tce\,
  Time: 12:00PM
SUMMARY:Auction for 
END:VEVENT
END:VCALENDAR
