BEGIN:VCALENDAR
VERSION:2.0
PRODID:icalendar-ruby
CALSCALE:GREGORIAN
BEGIN:VEVENT
DTSTAMP:20260422T053816Z
UID:ff4e7aa1-d45c-4506-92c6-c1d4240ae8a2
DTSTART;VALUE=DATE:20210722
DESCRIPTION:Property ID# 513152\, Locatoin: 12 Noon Harcourts Auction Rooms
 \, Coastlands Parade\, Paraparaumu\, Time: 12:00PM
SUMMARY:Auction for 
END:VEVENT
END:VCALENDAR
