BEGIN:VCALENDAR
VERSION:2.0
PRODID:icalendar-ruby
CALSCALE:GREGORIAN
BEGIN:VEVENT
DTSTAMP:20260422T030139Z
UID:4b96ac61-01af-4b50-bcce-869527c8382e
DTSTART;VALUE=DATE:20210630
DESCRIPTION:Property ID# 512306\, Locatoin: 30 Bay Road\, Kilbirnie\, Time:
  12:00PM
SUMMARY:Auction for 
END:VEVENT
END:VCALENDAR
