BEGIN:VCALENDAR
VERSION:2.0
PRODID:icalendar-ruby
CALSCALE:GREGORIAN
BEGIN:VEVENT
DTSTAMP:20260422T132300Z
UID:ba2841a9-21c6-4e5a-b678-a77c3bab58cc
DTSTART;VALUE=DATE:20210617
DESCRIPTION:Property ID# 510756\, Locatoin: Harcourts Auction Rooms Coastla
 nds Parade (UNLESS SOLD PRIOR)\, Time: 12:00PM
SUMMARY:Auction for 
END:VEVENT
END:VCALENDAR
