BEGIN:VCALENDAR
VERSION:2.0
PRODID:icalendar-ruby
CALSCALE:GREGORIAN
BEGIN:VEVENT
DTSTAMP:20260422T030951Z
UID:fcc775f8-552a-439c-ad86-9bf4e56a7c2f
DTSTART;VALUE=DATE:20210610
DESCRIPTION:Property ID# 510372\, Locatoin: 12 noon Thursday 10th of June a
 t 30 Bay Road\, Kilbirnie\, Time: 12:00PM
SUMMARY:Auction for 
END:VEVENT
END:VCALENDAR
