BEGIN:VCALENDAR
VERSION:2.0
PRODID:icalendar-ruby
CALSCALE:GREGORIAN
BEGIN:VEVENT
DTSTAMP:20260422T031145Z
UID:84419006-ea3f-404f-af57-de520eed444d
DTSTART;VALUE=DATE:20210429
DESCRIPTION:Property ID# 507517\, Locatoin: 30 Bay Road\, Kilbirnie\, Time:
  12:00PM
SUMMARY:Auction for 
END:VEVENT
END:VCALENDAR
