BEGIN:VCALENDAR
VERSION:2.0
PRODID:icalendar-ruby
CALSCALE:GREGORIAN
BEGIN:VEVENT
DTSTAMP:20260424T083300Z
UID:16b2566e-2ff6-4280-bc3b-b176f8dcc1c5
DTSTART;VALUE=DATE:20210428
DESCRIPTION:Property ID# 507516\, Locatoin: 30 Bay Road\, Kilbirnie\, Time:
  12:00PM
SUMMARY:Auction for 
END:VEVENT
END:VCALENDAR
