BEGIN:VCALENDAR
VERSION:2.0
PRODID:icalendar-ruby
CALSCALE:GREGORIAN
BEGIN:VEVENT
DTSTAMP:20260422T031049Z
UID:72bbf52c-3026-4e91-96d1-fe3f7add5b99
DTSTART;VALUE=DATE:20210325
DESCRIPTION:Property ID# 503724\, Locatoin: 30 Bay Road\, Kilbirnie\, Time:
  12:00PM
SUMMARY:Auction for 
END:VEVENT
END:VCALENDAR
