BEGIN:VCALENDAR
VERSION:2.0
PRODID:icalendar-ruby
CALSCALE:GREGORIAN
BEGIN:VEVENT
DTSTAMP:20260421T123206Z
UID:e3eb7d21-baaf-46f0-9169-284317bc0781
DTSTART;VALUE=DATE:20201118
DESCRIPTION:Property ID# 494079\, Locatoin: 8 Kent Terrace\, Wellington\, T
 ime: 12:00PM
SUMMARY:Auction for 
END:VEVENT
END:VCALENDAR
