BEGIN:VCALENDAR
VERSION:2.0
PRODID:icalendar-ruby
CALSCALE:GREGORIAN
BEGIN:VEVENT
DTSTAMP:20260422T221643Z
UID:cc9ae530-eb33-4d26-a7ec-ebcd88c986f0
DTSTART;VALUE=DATE:20201105
DESCRIPTION:Property ID# 493444\, Locatoin: 1/77 Thordon Quay\, Wellington\
 , Time: 1:00PM
SUMMARY:Auction for 
END:VEVENT
END:VCALENDAR
