BEGIN:VCALENDAR
VERSION:2.0
PRODID:icalendar-ruby
CALSCALE:GREGORIAN
BEGIN:VEVENT
DTSTAMP:20260422T184613Z
UID:556c2c0a-48df-42d8-9097-645057355788
DTSTART;VALUE=DATE:20200924
DESCRIPTION:Property ID# 489699\, Locatoin: 1/77 Thorndon Quay\, Wellington
 \, Time: 1:00PM
SUMMARY:Auction for 
END:VEVENT
END:VCALENDAR
