BEGIN:VCALENDAR
VERSION:2.0
PRODID:icalendar-ruby
CALSCALE:GREGORIAN
BEGIN:VEVENT
DTSTAMP:20260421T061105Z
UID:693b17b8-218f-4e14-a6ba-2e3e7f1d8a82
DTSTART;VALUE=DATE:20200921
DESCRIPTION:Property ID# 488699\, Locatoin: Harcourts Wellington City Offic
 e\, 54-56 Cambridge Terrace (unless sold prior)\, Time: 12:00PM
SUMMARY:Auction for 
END:VEVENT
END:VCALENDAR
