BEGIN:VCALENDAR
VERSION:2.0
PRODID:icalendar-ruby
CALSCALE:GREGORIAN
BEGIN:VEVENT
DTSTAMP:20260422T221126Z
UID:890881eb-a906-4357-85e6-723be60801c0
DTSTART;VALUE=DATE:20200903
DESCRIPTION:Property ID# 487896\, Locatoin: 1/77 Thorndon Quay\, Wellington
 \, Time: 1:00PM
SUMMARY:Auction for 
END:VEVENT
END:VCALENDAR
