BEGIN:VCALENDAR
VERSION:2.0
PRODID:icalendar-ruby
CALSCALE:GREGORIAN
BEGIN:VEVENT
DTSTAMP:20260420T213803Z
UID:71f62925-edac-4dba-8b3d-1e7325e02149
DTSTART;VALUE=DATE:20200826
DESCRIPTION:Property ID# 486455\, Locatoin: 77 Thorndon Quay\, Pipitea\, We
 llington\, Time: 12:00PM
SUMMARY:Auction for 
END:VEVENT
END:VCALENDAR
