BEGIN:VCALENDAR
VERSION:2.0
PRODID:icalendar-ruby
CALSCALE:GREGORIAN
BEGIN:VEVENT
DTSTAMP:20260422T215607Z
UID:bd210f47-4010-46f4-831e-6ece63eb438a
DTSTART;VALUE=DATE:20200312
DESCRIPTION:Property ID# 474304\, Locatoin: 1/77 Thorndon Quay\, Wellington
 \, Time: 1:00PM
SUMMARY:Auction for 
END:VEVENT
END:VCALENDAR
