BEGIN:VCALENDAR
VERSION:2.0
PRODID:icalendar-ruby
CALSCALE:GREGORIAN
BEGIN:VEVENT
DTSTAMP:20260422T215744Z
UID:6704c548-4238-43ef-8378-1b2aa3fb5f6d
DTSTART;VALUE=DATE:20200305
DESCRIPTION:Property ID# 473977\, Locatoin: 1/77 Thorndon Quay\, Wellington
 \, Time: 1:00PM
SUMMARY:Auction for 
END:VEVENT
END:VCALENDAR
