BEGIN:VCALENDAR
VERSION:2.0
PRODID:icalendar-ruby
CALSCALE:GREGORIAN
BEGIN:VEVENT
DTSTAMP:20260422T221304Z
UID:fed0ad54-6bb7-4a3c-987f-641b09325ba3
DTSTART;VALUE=DATE:20200130
DESCRIPTION:Property ID# 470582\, Locatoin: Ray White\, 9-11 Kings Crescent
 \, Lower Hutt\, Time: 1:00PM
SUMMARY:Auction for 
END:VEVENT
END:VCALENDAR
