BEGIN:VCALENDAR
VERSION:2.0
PRODID:icalendar-ruby
CALSCALE:GREGORIAN
BEGIN:VEVENT
DTSTAMP:20260421T225428Z
UID:191bddd8-fadd-4ecb-bc2b-95c4fcd73369
DTSTART;VALUE=DATE:20191106
DESCRIPTION:Property ID# 464752\, Locatoin: Harcourts Wellington City Offic
 e\, 54-56 Cambridge Terrace (unless sold prior)\, Time: 12:00PM
SUMMARY:Auction for 
END:VEVENT
END:VCALENDAR
