BEGIN:VCALENDAR
VERSION:2.0
PRODID:icalendar-ruby
CALSCALE:GREGORIAN
BEGIN:VEVENT
DTSTAMP:20260421T194439Z
UID:a50e0741-abf2-4342-8e26-d1e3f2ad3a2c
DTSTART;VALUE=DATE:20191030
DESCRIPTION:Property ID# 464657\, Locatoin: Harcourts Wellington City Offic
 e\, 54-56 Cambridge Terrace (unless sold prior)\, Time: 12:00PM
SUMMARY:Auction for 
END:VEVENT
END:VCALENDAR
